BEGIN:VCALENDAR
VERSION:2.0
PRODID:icalendar-ruby
CALSCALE:GREGORIAN
METHOD:PUBLISH
BEGIN:VEVENT
DTSTAMP:20260422T201943Z
UID:5-776146@firstbaptistberlin.com
DTSTART:20261101T150000Z
DTEND:20261101T160000Z
CLASS:PUBLIC
CREATED:20260422T134807
DESCRIPTION:Sunday Worship
LAST-MODIFIED:20260422T134807
LOCATION:
SUMMARY:Sunday Worship
URL;VALUE=URI:https://www.firstbaptistberlin.com/events/sunday-worship/2026
 -11-01
END:VEVENT
END:VCALENDAR
