BEGIN:VCALENDAR
VERSION:2.0
PRODID:icalendar-ruby
CALSCALE:GREGORIAN
METHOD:PUBLISH
BEGIN:VEVENT
DTSTAMP:20260422T184537Z
UID:5-776145@firstbaptistberlin.com
DTSTART:20261025T140000Z
DTEND:20261025T150000Z
CLASS:PUBLIC
CREATED:20260422T134807
DESCRIPTION:Sunday Worship
LAST-MODIFIED:20260422T134807
LOCATION:
SUMMARY:Sunday Worship
URL;VALUE=URI:https://www.firstbaptistberlin.com/events/sunday-worship/2026
 -10-25
END:VEVENT
END:VCALENDAR
