BEGIN:VCALENDAR
VERSION:2.0
PRODID:icalendar-ruby
CALSCALE:GREGORIAN
METHOD:PUBLISH
BEGIN:VEVENT
DTSTAMP:20260422T054031Z
UID:5-774373@firstbaptistberlin.com
DTSTART:20260830T140000Z
DTEND:20260830T150000Z
CLASS:PUBLIC
CREATED:20260421T205347
DESCRIPTION:Sunday Worship
LAST-MODIFIED:20260421T205347
LOCATION:
SUMMARY:Sunday Worship
URL;VALUE=URI:https://www.firstbaptistberlin.com/events/sunday-worship/2026
 -08-30
END:VEVENT
END:VCALENDAR
