BEGIN:VCALENDAR
VERSION:2.0
PRODID:icalendar-ruby
CALSCALE:GREGORIAN
METHOD:PUBLISH
BEGIN:VEVENT
DTSTAMP:20260421T194738Z
UID:5-773190@firstbaptistberlin.com
DTSTART:20260712T140000Z
DTEND:20260712T150000Z
CLASS:PUBLIC
CREATED:20260421T153725
DESCRIPTION:Sunday Worship
LAST-MODIFIED:20260421T153725
LOCATION:
SUMMARY:Sunday Worship
URL;VALUE=URI:https://www.firstbaptistberlin.com/events/sunday-worship/2026
 -07-12
END:VEVENT
END:VCALENDAR
