BEGIN:VCALENDAR
VERSION:2.0
PRODID:icalendar-ruby
CALSCALE:GREGORIAN
METHOD:PUBLISH
BEGIN:VEVENT
DTSTAMP:20260421T163936Z
UID:5-772012@firstbaptistberlin.com
DTSTART:20260628T140000Z
DTEND:20260628T150000Z
CLASS:PUBLIC
CREATED:20260421T102128
DESCRIPTION:Sunday Worship
LAST-MODIFIED:20260421T102128
LOCATION:
SUMMARY:Sunday Worship
URL;VALUE=URI:https://www.firstbaptistberlin.com/events/sunday-worship/2026
 -06-28
END:VEVENT
END:VCALENDAR
